BEGIN:VCALENDAR
VERSION:2.0
PRODID:-//hacksw/handcal//NONSGML v1.0//EN
CALSCALE:GREGORIAN
BEGIN:VEVENT
UID:69e737fc48750
SEQUENCE:0
DESCRIPTION:【リトル・ママフェスタ池袋2025Mar】　　キッズレース参加チケット【二次募集】
DTSTART:20250328T010000Z
DTEND:20250329T070000Z
SUMMARY:【リトル・ママフェスタ池袋2025Mar】　　キッズレース参加チケット【二次募集】
LOCATION:池袋サンシャインシティ 文化会館ビル2階 展示ホールD
URL:https://ticket.l-ma.co.jp/event/95110/ikebukuro2025marrace2
DTSTAMP:20260421T174028Z
END:VEVENT
END:VCALENDAR