BEGIN:VCALENDAR
VERSION:2.0
PRODID:-//hacksw/handcal//NONSGML v1.0//EN
CALSCALE:GREGORIAN
BEGIN:VEVENT
UID:69e8205e5ce21
SEQUENCE:0
DESCRIPTION:リトル・ママフェスタ奈良2025Apr
DTSTART:20250412T010000Z
DTEND:20250412T070000Z
SUMMARY:リトル・ママフェスタ奈良2025Apr
LOCATION:奈良県コンベンションセンター ホールB・C
URL:https://ticket.l-ma.co.jp/event/94950/nara2025Apr
DTSTAMP:20260422T101158Z
END:VEVENT
END:VCALENDAR