BEGIN:VCALENDAR
VERSION:2.0
PRODID:-//hacksw/handcal//NONSGML v1.0//EN
CALSCALE:GREGORIAN
BEGIN:VEVENT
UID:69ed921c6e7cc
SEQUENCE:0
DESCRIPTION:【リトル・ママフェスタ金沢2024Nov】　　キッズレース参加チケット
DTSTART:20241130T010000Z
DTEND:20241130T070000Z
SUMMARY:【リトル・ママフェスタ金沢2024Nov】　　キッズレース参加チケット
LOCATION:石川県産業展示館　3号館　西面
URL:https://ticket.l-ma.co.jp/event/90207/kanazawa2024novrace
DTSTAMP:20260426T131836Z
END:VEVENT
END:VCALENDAR