BEGIN:VCALENDAR
VERSION:2.0
PRODID:-//hacksw/handcal//NONSGML v1.0//EN
CALSCALE:GREGORIAN
BEGIN:VEVENT
UID:69ea34bb3a8a6
SEQUENCE:0
DESCRIPTION:【リトル・ママフェスタ金沢2024Jun】　　親子向け講座 参加チケット
DTSTART:20240629T010000Z
DTEND:20240629T070000Z
SUMMARY:【リトル・ママフェスタ金沢2024Jun】　　親子向け講座 参加チケット
LOCATION:もてなしドーム地下広場
URL:https://ticket.l-ma.co.jp/event/79640/kanazawa2024junseminar
DTSTAMP:20260424T000323Z
END:VEVENT
END:VCALENDAR