BEGIN:VCALENDAR
VERSION:2.0
PRODID:-//hacksw/handcal//NONSGML v1.0//EN
CALSCALE:GREGORIAN
BEGIN:VEVENT
UID:69ed03f367179
SEQUENCE:0
DESCRIPTION:【リトル・ママフェスタ大阪2023Mar】キッズレース参加チケット
DTSTART:20230330T010000Z
DTEND:20230331T070000Z
SUMMARY:【リトル・ママフェスタ大阪2023Mar】キッズレース参加チケット
LOCATION:OMM B・Cホール
URL:https://ticket.l-ma.co.jp/event/47841/osaka2023marrace
DTSTAMP:20260426T031203Z
END:VEVENT
END:VCALENDAR