BEGIN:VCALENDAR
VERSION:2.0
PRODID:-//hacksw/handcal//NONSGML v1.0//EN
CALSCALE:GREGORIAN
BEGIN:VEVENT
UID:69e574bcece51
SEQUENCE:0
DESCRIPTION:リトル・ママフェスタ東京2022Dec
DTSTART:20221130T010000Z
DTEND:20221201T070000Z
SUMMARY:リトル・ママフェスタ東京2022Dec
LOCATION:サンシャインシティ文化会館2階 展示ホールD
URL:https://ticket.l-ma.co.jp/event/39259/tokyo2022Dec
DTSTAMP:20260420T093508Z
END:VEVENT
END:VCALENDAR