BEGIN:VCALENDAR
VERSION:2.0
PRODID:-//hacksw/handcal//NONSGML v1.0//EN
CALSCALE:GREGORIAN
BEGIN:VEVENT
UID:69e569b553f75
SEQUENCE:0
DESCRIPTION:リトル・ママフェスタ名古屋2022Nov
DTSTART:20221122T010000Z
DTEND:20221122T070000Z
SUMMARY:リトル・ママフェスタ名古屋2022Nov
LOCATION:吹上ホール 第1ファッション展示場
URL:https://ticket.l-ma.co.jp/event/38764/nagoya2022nov
DTSTAMP:20260420T084805Z
END:VEVENT
END:VCALENDAR