BEGIN:VCALENDAR
VERSION:2.0
PRODID:-//hacksw/handcal//NONSGML v1.0//EN
CALSCALE:GREGORIAN
BEGIN:VEVENT
UID:69e5504d9f842
SEQUENCE:0
DESCRIPTION:キューサイpresents asobuフェス2022
DTSTART:20220821T010000Z
DTEND:20220821T070000Z
SUMMARY:キューサイpresents asobuフェス2022
LOCATION:アイランドアイイベントホール（福岡アイランドシティフォーラム）
URL:https://ticket.l-ma.co.jp/event/32187/asobufes2022
DTSTAMP:20260420T065941Z
END:VEVENT
END:VCALENDAR