BEGIN:VCALENDAR
VERSION:2.0
PRODID:-//hacksw/handcal//NONSGML v1.0//EN
CALSCALE:GREGORIAN
BEGIN:VEVENT
UID:69e7adf9d8e84
SEQUENCE:0
DESCRIPTION:【ベビー＆キッズわくわくエリア】キッズレース参加チケット
DTSTART:20260426T020000Z
DTEND:20260426T060000Z
SUMMARY:【ベビー＆キッズわくわくエリア】キッズレース参加チケット
LOCATION:Ｆビレッジ　１階ガラスウォール前
URL:https://ticket.l-ma.co.jp/event/131445/escon2026_race
DTSTAMP:20260422T020353Z
END:VEVENT
END:VCALENDAR