BEGIN:VCALENDAR
VERSION:2.0
PRODID:-//hacksw/handcal//NONSGML v1.0//EN
CALSCALE:GREGORIAN
BEGIN:VEVENT
UID:69e73c4f8c052
SEQUENCE:0
DESCRIPTION:【リトル・ママフェスタ松山2025Sep】　親子向け講座 参加チケット
DTSTART:20250906T010000Z
DTEND:20250906T070000Z
SUMMARY:【リトル・ママフェスタ松山2025Sep】　親子向け講座 参加チケット
LOCATION:アイテムえひめ　大展示場C
URL:https://ticket.l-ma.co.jp/event/109344/matsuyama2025sepseminar
DTSTAMP:20260421T175855Z
END:VEVENT
END:VCALENDAR